BEGIN:VCALENDAR
PRODID:-//eluceo/ical//2.0/EN
VERSION:2.0
CALSCALE:GREGORIAN
BEGIN:VEVENT
UID:9be1ea98ae9539baf1746c760ddfe242
DTSTAMP:20260421T110800Z
SUMMARY:Congregation Beth Israel Board Meeting
DESCRIPTION:Jewish Federation of Central Massachusetts\nCalendar\nhttps://j
 ewishcentralmass.org/calendar/cal427\n\nCongregation Beth Israel Board Mee
 ting
DTSTART;TZID=America/New_York:20160331T193000
DTEND;TZID=America/New_York:20160331T210000
END:VEVENT
END:VCALENDAR
