BEGIN:VCALENDAR
PRODID:-//eluceo/ical//2.0/EN
VERSION:2.0
CALSCALE:GREGORIAN
BEGIN:VEVENT
UID:61a65901c517720ecff83f61fa3fd837
DTSTAMP:20260422T213552Z
SUMMARY:Jewish War Veterans Breakfast
DESCRIPTION:Jewish Federation of Central Massachusetts\nCalendar\nhttps://j
 ewishcentralmass.org/calendar/cal425\n\nJewish War Veterans Breakfast
DTSTART;TZID=America/New_York:20160327T090000
DTEND;TZID=America/New_York:20160327T110000
END:VEVENT
END:VCALENDAR
