BEGIN:VCALENDAR
PRODID:-//eluceo/ical//2.0/EN
VERSION:2.0
CALSCALE:GREGORIAN
BEGIN:VEVENT
UID:f106071c37b60ef9a056f7d725f96f9a
DTSTAMP:20260424T060607Z
SUMMARY:Beth Tikvah Trivia Night
DESCRIPTION:Jewish Federation of Central Massachusetts\nCalendar\nhttps://j
 ewishcentralmass.org/calendar/cal423\n\nBeth Tikvah Trivia Night
DTSTART;TZID=America/New_York:20160326T180000
DTEND;TZID=America/New_York:20160326T230000
END:VEVENT
END:VCALENDAR
