BEGIN:VCALENDAR
PRODID:-//eluceo/ical//2.0/EN
VERSION:2.0
CALSCALE:GREGORIAN
BEGIN:VEVENT
UID:683ae2ba25ef90f21a72a70ecc423efc
DTSTAMP:20260423T015050Z
SUMMARY:Purim
DESCRIPTION:Jewish Federation of Central Massachusetts\nCalendar\nhttps://j
 ewishcentralmass.org/calendar/cal421\n\nJFCM
DTSTART;TZID=America/New_York:20160324T000100
DTEND;TZID=America/New_York:20160324T235959
END:VEVENT
END:VCALENDAR
