BEGIN:VCALENDAR
PRODID:-//eluceo/ical//2.0/EN
VERSION:2.0
CALSCALE:GREGORIAN
BEGIN:VEVENT
UID:714cf4200caab7827eed3635b18ec0c7
DTSTAMP:20260423T071925Z
SUMMARY:TES & BT & CBS Purim Carnival
DESCRIPTION:Jewish Federation of Central Massachusetts\nCalendar\nhttps://j
 ewishcentralmass.org/calendar/cal420\n\nTemple Emanuel Sinai & Beth Tikvah
  & Congregation B'nai Shalom Purim Carnival
DTSTART;TZID=America/New_York:20160323T170000
DTEND;TZID=America/New_York:20160323T200000
END:VEVENT
END:VCALENDAR
