BEGIN:VCALENDAR
PRODID:-//eluceo/ical//2.0/EN
VERSION:2.0
CALSCALE:GREGORIAN
BEGIN:VEVENT
UID:41610e8d3d34ab68865f0e2f1928eb38
DTSTAMP:20260424T060527Z
SUMMARY:Jewish Federation of Central Mass Torathon
DESCRIPTION:Jewish Federation of Central Massachusetts\nCalendar\nhttps://j
 ewishcentralmass.org/calendar/cal42\n\nJewish Federation of Central Mass T
 orathon\n\nClick here for full details.
DTSTART;TZID=America/New_York:20141108T180000
DTEND;TZID=America/New_York:20141108T220000
END:VEVENT
END:VCALENDAR
