BEGIN:VCALENDAR
PRODID:-//eluceo/ical//2.0/EN
VERSION:2.0
CALSCALE:GREGORIAN
BEGIN:VEVENT
UID:652b42a0039056f4701b2f81c5908f45
DTSTAMP:20260423T055303Z
SUMMARY:Megillah Reading
DESCRIPTION:Jewish Federation of Central Massachusetts\nCalendar\nhttps://j
 ewishcentralmass.org/calendar/cal419\n\nJFCM
DTSTART;TZID=America/New_York:20160323T000100
DTEND;TZID=America/New_York:20160323T235900
END:VEVENT
END:VCALENDAR
