BEGIN:VCALENDAR
PRODID:-//eluceo/ical//2.0/EN
VERSION:2.0
CALSCALE:GREGORIAN
BEGIN:VEVENT
UID:fe51f369cf62e40c0d7345ab45b3ddaa
DTSTAMP:20260423T183238Z
SUMMARY:Congregation Beth Israel Baking Event
DESCRIPTION:Jewish Federation of Central Massachusetts\nCalendar\nhttps://j
 ewishcentralmass.org/calendar/cal417\n\nCongregation Beth Israel Baking Ev
 ent
DTSTART;TZID=America/New_York:20160320T140000
DTEND;TZID=America/New_York:20160320T160000
END:VEVENT
END:VCALENDAR
