BEGIN:VCALENDAR
PRODID:-//eluceo/ical//2.0/EN
VERSION:2.0
CALSCALE:GREGORIAN
BEGIN:VEVENT
UID:29cbf0516e95d3478839c2a3cee9b4db
DTSTAMP:20260423T095121Z
SUMMARY:Congregation B'nai Shalom Purim Event
DESCRIPTION:Jewish Federation of Central Massachusetts\nCalendar\nhttps://j
 ewishcentralmass.org/calendar/cal416\n\nCongregation B'nai Shalom Purim Ev
 ent
DTSTART;TZID=America/New_York:20160320T113000
DTEND;TZID=America/New_York:20160320T140000
END:VEVENT
END:VCALENDAR
