BEGIN:VCALENDAR
PRODID:-//eluceo/ical//2.0/EN
VERSION:2.0
CALSCALE:GREGORIAN
BEGIN:VEVENT
UID:146c261b04b41607c0667aabe7cd8b6c
DTSTAMP:20260422T085044Z
SUMMARY:Temple Emanuel Sinai Board Meeting
DESCRIPTION:Jewish Federation of Central Massachusetts\nCalendar\nhttps://j
 ewishcentralmass.org/calendar/cal415\n\nTemple Emanuel Sinai Board Meeting
DTSTART;TZID=America/New_York:20160314T193000
DTEND;TZID=America/New_York:20160314T210000
END:VEVENT
END:VCALENDAR
