BEGIN:VCALENDAR
PRODID:-//eluceo/ical//2.0/EN
VERSION:2.0
CALSCALE:GREGORIAN
BEGIN:VEVENT
UID:30cee3053a0d0fcc1dcf0253a1280378
DTSTAMP:20260423T074242Z
SUMMARY:Beth Tikvah Board Meeting
DESCRIPTION:Jewish Federation of Central Massachusetts\nCalendar\nhttps://j
 ewishcentralmass.org/calendar/cal413\n\nBeth Tikvah Board Meeting
DTSTART;TZID=America/New_York:20160309T190000
DTEND;TZID=America/New_York:20160309T210000
END:VEVENT
END:VCALENDAR
