BEGIN:VCALENDAR
PRODID:-//eluceo/ical//2.0/EN
VERSION:2.0
CALSCALE:GREGORIAN
BEGIN:VEVENT
UID:7372c3e94ef5661828fe03f46ebe5c1e
DTSTAMP:20260423T210627Z
SUMMARY:Jewish Federation of Central Mass Board Meeting
DESCRIPTION:Jewish Federation of Central Massachusetts\nCalendar\nhttps://j
 ewishcentralmass.org/calendar/cal412\n\nJewish Federation of Central Mass 
 Board Meeting
DTSTART;TZID=America/New_York:20160301T193000
DTEND;TZID=America/New_York:20160301T210000
END:VEVENT
END:VCALENDAR
