BEGIN:VCALENDAR
PRODID:-//eluceo/ical//2.0/EN
VERSION:2.0
CALSCALE:GREGORIAN
BEGIN:VEVENT
UID:6f159889ed77a1235e15e5a0daa1fe95
DTSTAMP:20260422T080110Z
SUMMARY:Jewish War Veterans Breakfast
DESCRIPTION:Jewish Federation of Central Massachusetts\nCalendar\nhttps://j
 ewishcentralmass.org/calendar/cal410\n\nJewish War Veterans Breakfast
DTSTART;TZID=America/New_York:20160228T090000
DTEND;TZID=America/New_York:20160228T110000
END:VEVENT
END:VCALENDAR
