BEGIN:VCALENDAR
PRODID:-//eluceo/ical//2.0/EN
VERSION:2.0
CALSCALE:GREGORIAN
BEGIN:VEVENT
UID:643f5e749b94879bd108302bf5e80207
DTSTAMP:20260424T003435Z
SUMMARY:JFCM Scholar In Residence Weekend with Dr. Ron Wolfson
DESCRIPTION:Jewish Federation of Central Massachusetts\nCalendar\nhttps://j
 ewishcentralmass.org/calendar/cal41\n\nJewish Federation of Central Mass S
 cholar In Residence Weekend with Dr. Ron Wolfson.\n\nClick here for the fl
 yer with full details.
DTSTART;TZID=America/New_York:20141107T180000
DTEND;TZID=America/New_York:20141109T150000
END:VEVENT
END:VCALENDAR
