BEGIN:VCALENDAR
PRODID:-//eluceo/ical//2.0/EN
VERSION:2.0
CALSCALE:GREGORIAN
BEGIN:VEVENT
UID:34a99c5bdb6c370e4aeaf71901b19d71
DTSTAMP:20260423T194132Z
SUMMARY:Beth Tikvah Woman's Shabbat Service
DESCRIPTION:Jewish Federation of Central Massachusetts\nCalendar\nhttps://j
 ewishcentralmass.org/calendar/cal409\n\nBeth Tikvah Woman's Shabbat Servic
 e
DTSTART;TZID=America/New_York:20160227T093000
DTEND;TZID=America/New_York:20160227T120000
END:VEVENT
END:VCALENDAR
