BEGIN:VCALENDAR
PRODID:-//eluceo/ical//2.0/EN
VERSION:2.0
CALSCALE:GREGORIAN
BEGIN:VEVENT
UID:2ad3c9729ee2a5537f14c3535dcc3117
DTSTAMP:20260422T112654Z
SUMMARY:Congregation B'nai Shalom Board Meeting
DESCRIPTION:Jewish Federation of Central Massachusetts\nCalendar\nhttps://j
 ewishcentralmass.org/calendar/cal407\n\nCongregation B'nai Shalom Board Me
 eting
DTSTART;TZID=America/New_York:20160224T193000
DTEND;TZID=America/New_York:20160224T210000
END:VEVENT
END:VCALENDAR
