BEGIN:VCALENDAR
PRODID:-//eluceo/ical//2.0/EN
VERSION:2.0
CALSCALE:GREGORIAN
BEGIN:VEVENT
UID:02eb9ee421dc16f96caeef1e2f750094
DTSTAMP:20260422T044501Z
SUMMARY:Presidents Day
DESCRIPTION:Jewish Federation of Central Massachusetts\nCalendar\nhttps://j
 ewishcentralmass.org/calendar/cal406\n\nJFCM
DTSTART;TZID=America/New_York:20160215T000100
DTEND;TZID=America/New_York:20160215T235900
END:VEVENT
END:VCALENDAR
