BEGIN:VCALENDAR
PRODID:-//eluceo/ical//2.0/EN
VERSION:2.0
CALSCALE:GREGORIAN
BEGIN:VEVENT
UID:0b55d92f4774a341da6b21a2049c640d
DTSTAMP:20260423T125550Z
SUMMARY:Jewish Community Center Board Meeting
DESCRIPTION:Jewish Federation of Central Massachusetts\nCalendar\nhttps://j
 ewishcentralmass.org/calendar/cal405\n\nJewish Community Center Board Meet
 ing
DTSTART;TZID=America/New_York:20160211T193000
DTEND;TZID=America/New_York:20160211T210000
END:VEVENT
END:VCALENDAR
