BEGIN:VCALENDAR
PRODID:-//eluceo/ical//2.0/EN
VERSION:2.0
CALSCALE:GREGORIAN
BEGIN:VEVENT
UID:2cf5af062adcf98f24e51ae8a2b1dd1f
DTSTAMP:20260423T084308Z
SUMMARY:Congregation Beth Israel World Wide Rap Day
DESCRIPTION:Jewish Federation of Central Massachusetts\nCalendar\nhttps://j
 ewishcentralmass.org/calendar/cal400\n\nCongregation Beth Israel World Wid
 e Rap Day
DTSTART;TZID=America/New_York:20160207T090000
DTEND;TZID=America/New_York:20160207T113000
END:VEVENT
END:VCALENDAR
