BEGIN:VCALENDAR
PRODID:-//eluceo/ical//2.0/EN
VERSION:2.0
CALSCALE:GREGORIAN
BEGIN:VEVENT
UID:5c77658710a5a7d66af126e1fdd32fbf
DTSTAMP:20260424T003335Z
SUMMARY:Pardes School Committee Meeting
DESCRIPTION:Jewish Federation of Central Massachusetts\nCalendar\nhttps://j
 ewishcentralmass.org/calendar/cal40\n\nPardes School Committee Meeting
DTSTART;TZID=America/New_York:20141106T191500
DTEND;TZID=America/New_York:20141106T210000
END:VEVENT
END:VCALENDAR
