BEGIN:VCALENDAR
PRODID:-//eluceo/ical//2.0/EN
VERSION:2.0
CALSCALE:GREGORIAN
BEGIN:VEVENT
UID:35b8600a7f6bebd36a99647ea8610f16
DTSTAMP:20260423T210210Z
SUMMARY:Jewish Healthcare Center Board Meeting
DESCRIPTION:Jewish Federation of Central Massachusetts\nCalendar\nhttps://j
 ewishcentralmass.org/calendar/cal4\n\nJewish Healthcare Center Board Meeti
 ng
DTSTART;TZID=America/New_York:20140908T193000
DTEND;TZID=America/New_York:20140908T210000
END:VEVENT
END:VCALENDAR
