BEGIN:VCALENDAR
PRODID:-//eluceo/ical//2.0/EN
VERSION:2.0
CALSCALE:GREGORIAN
BEGIN:VEVENT
UID:884a5ac3f219a0acf915d18999cacd05
DTSTAMP:20260422T080754Z
SUMMARY:Jewish Community Center Winter Gala Event
DESCRIPTION:Jewish Federation of Central Massachusetts\nCalendar\nhttps://j
 ewishcentralmass.org/calendar/cal399\n\nJewish Community Center Winter Gal
 a Event
DTSTART;TZID=America/New_York:20160206T180000
DTEND;TZID=America/New_York:20160206T230000
END:VEVENT
END:VCALENDAR
