BEGIN:VCALENDAR
PRODID:-//eluceo/ical//2.0/EN
VERSION:2.0
CALSCALE:GREGORIAN
BEGIN:VEVENT
UID:7d4d40d5f6869f69ae64505dcc47f78f
DTSTAMP:20260423T194042Z
SUMMARY:Jewish Federation of Central Mass Board Meeting
DESCRIPTION:Jewish Federation of Central Massachusetts\nCalendar\nhttps://j
 ewishcentralmass.org/calendar/cal397\n\nJewish Federation of Central Mass 
 Board Meeting
DTSTART;TZID=America/New_York:20160209T193000
DTEND;TZID=America/New_York:20160209T210000
END:VEVENT
END:VCALENDAR
