BEGIN:VCALENDAR
PRODID:-//eluceo/ical//2.0/EN
VERSION:2.0
CALSCALE:GREGORIAN
BEGIN:VEVENT
UID:056c5bae1621f97292899f56649c1274
DTSTAMP:20260422T230104Z
SUMMARY:Congregation Beth Israel Board Meeting
DESCRIPTION:Jewish Federation of Central Massachusetts\nCalendar\nhttps://j
 ewishcentralmass.org/calendar/cal395\n\nCongregation Beth Israel Board Mee
 ting
DTSTART;TZID=America/New_York:20160128T193000
DTEND;TZID=America/New_York:20160128T210000
END:VEVENT
END:VCALENDAR
