BEGIN:VCALENDAR
PRODID:-//eluceo/ical//2.0/EN
VERSION:2.0
CALSCALE:GREGORIAN
BEGIN:VEVENT
UID:b7ae996b47f6006b42a02ebe4c117fbc
DTSTAMP:20260422T032613Z
SUMMARY:Congregation B'nai Shalom Board Meeting
DESCRIPTION:Jewish Federation of Central Massachusetts\nCalendar\nhttps://j
 ewishcentralmass.org/calendar/cal394\n\nCongregation B'nai Shalom Board Me
 eting
DTSTART;TZID=America/New_York:20160127T193000
DTEND;TZID=America/New_York:20160127T210000
END:VEVENT
END:VCALENDAR
