BEGIN:VCALENDAR
PRODID:-//eluceo/ical//2.0/EN
VERSION:2.0
CALSCALE:GREGORIAN
BEGIN:VEVENT
UID:9f2e9470759bf8a93e909712ba90cd1e
DTSTAMP:20260423T111920Z
SUMMARY:Jewish Community Center Film Festival
DESCRIPTION:Jewish Federation of Central Massachusetts\nCalendar\nhttps://j
 ewishcentralmass.org/calendar/cal393\n\nJewish Community Center Film Festi
 val  \n\n"The Last Mentsch"
DTSTART;TZID=America/New_York:20160126T191500
DTEND;TZID=America/New_York:20160126T220000
END:VEVENT
END:VCALENDAR
