BEGIN:VCALENDAR
PRODID:-//eluceo/ical//2.0/EN
VERSION:2.0
CALSCALE:GREGORIAN
BEGIN:VEVENT
UID:3999be2acc92c5e52a1eb33e7445cba0
DTSTAMP:20260422T005717Z
SUMMARY:Tu B'Shevat
DESCRIPTION:Jewish Federation of Central Massachusetts\nCalendar\nhttps://j
 ewishcentralmass.org/calendar/cal392\n\nJFCM
DTSTART;TZID=America/New_York:20160125T000100
DTEND;TZID=America/New_York:20160125T235900
END:VEVENT
END:VCALENDAR
