BEGIN:VCALENDAR
PRODID:-//eluceo/ical//2.0/EN
VERSION:2.0
CALSCALE:GREGORIAN
BEGIN:VEVENT
UID:d3992c2df3a55437e654b82ce1677f77
DTSTAMP:20260422T152351Z
SUMMARY:Jewish Community Center Film Festival
DESCRIPTION:Jewish Federation of Central Massachusetts\nCalendar\nhttps://j
 ewishcentralmass.org/calendar/cal391\n\nJewish Community Center Film Festi
 val  \n\n"A Borrowed Identity"\n\n 
DTSTART;TZID=America/New_York:20160123T193000
DTEND;TZID=America/New_York:20160123T220000
END:VEVENT
END:VCALENDAR
