BEGIN:VCALENDAR
PRODID:-//eluceo/ical//2.0/EN
VERSION:2.0
CALSCALE:GREGORIAN
BEGIN:VEVENT
UID:e3007479d27f2ddced921a8f310d8b56
DTSTAMP:20260424T100757Z
SUMMARY:Congregation B'nai Shalom Board Meeting
DESCRIPTION:Jewish Federation of Central Massachusetts\nCalendar\nhttps://j
 ewishcentralmass.org/calendar/cal39\n\nCongregation B'nai Shalom Board Mee
 ting
DTSTART;TZID=America/New_York:20141105T193000
DTEND;TZID=America/New_York:20141105T210000
END:VEVENT
END:VCALENDAR
