BEGIN:VCALENDAR
PRODID:-//eluceo/ical//2.0/EN
VERSION:2.0
CALSCALE:GREGORIAN
BEGIN:VEVENT
UID:9a5d46352e4cbfea38a559fe6eb5b15d
DTSTAMP:20260423T095015Z
SUMMARY:Beth Tikvah and Congregation B'nai Shalom Joint Service
DESCRIPTION:Jewish Federation of Central Massachusetts\nCalendar\nhttps://j
 ewishcentralmass.org/calendar/cal388\n\nBeth Tikvah and Congregation B'nai
  Shalom Joint Service
DTSTART;TZID=America/New_York:20160122T193000
DTEND;TZID=America/New_York:20160122T210000
END:VEVENT
END:VCALENDAR
