BEGIN:VCALENDAR
PRODID:-//eluceo/ical//2.0/EN
VERSION:2.0
CALSCALE:GREGORIAN
BEGIN:VEVENT
UID:87fda1fd6784897a06193963a8345f80
DTSTAMP:20260422T093230Z
SUMMARY:Jewish Community Center Board Meeting
DESCRIPTION:Jewish Federation of Central Massachusetts\nCalendar\nhttps://j
 ewishcentralmass.org/calendar/cal387\n\nJewish Community Center Board Meet
 ing
DTSTART;TZID=America/New_York:20160121T193000
DTEND;TZID=America/New_York:20160121T210000
END:VEVENT
END:VCALENDAR
