BEGIN:VCALENDAR
PRODID:-//eluceo/ical//2.0/EN
VERSION:2.0
CALSCALE:GREGORIAN
BEGIN:VEVENT
UID:2bed980beb47e03cd807953e448ca4f1
DTSTAMP:20260422T081951Z
SUMMARY:Martin Luther King Day
DESCRIPTION:Jewish Federation of Central Massachusetts\nCalendar\nhttps://j
 ewishcentralmass.org/calendar/cal385\n\nJFCM
DTSTART;TZID=America/New_York:20160118T000100
DTEND;TZID=America/New_York:20160118T235900
END:VEVENT
END:VCALENDAR
