BEGIN:VCALENDAR
PRODID:-//eluceo/ical//2.0/EN
VERSION:2.0
CALSCALE:GREGORIAN
BEGIN:VEVENT
UID:72a7e22f623c6dfef6839b9a39a65fff
DTSTAMP:20260424T085222Z
SUMMARY:Jewish Federation of Central Mass Board Meeting
DESCRIPTION:Jewish Federation of Central Massachusetts\nCalendar\nhttps://j
 ewishcentralmass.org/calendar/cal38\n\nJewish Federation of Central Mass B
 oard Meeting
DTSTART;TZID=America/New_York:20141104T193000
DTEND;TZID=America/New_York:20141104T210000
END:VEVENT
END:VCALENDAR
