BEGIN:VCALENDAR
PRODID:-//eluceo/ical//2.0/EN
VERSION:2.0
CALSCALE:GREGORIAN
BEGIN:VEVENT
UID:b2169dd239d5459e5cd336304e4bb781
DTSTAMP:20260423T183438Z
SUMMARY:Jewish Federation of Central Mass Board Meeting
DESCRIPTION:Jewish Federation of Central Massachusetts\nCalendar\nhttps://j
 ewishcentralmass.org/calendar/cal378\n\nJewish Federation of Central Mass 
 Board Meeting
DTSTART;TZID=America/New_York:20160105T193000
DTEND;TZID=America/New_York:20160105T210000
END:VEVENT
END:VCALENDAR
