BEGIN:VCALENDAR
PRODID:-//eluceo/ical//2.0/EN
VERSION:2.0
CALSCALE:GREGORIAN
BEGIN:VEVENT
UID:97e0bfdc7e088481377249147c8458b1
DTSTAMP:20260422T035314Z
SUMMARY:New Years
DESCRIPTION:Jewish Federation of Central Massachusetts\nCalendar\nhttps://j
 ewishcentralmass.org/calendar/cal376\n\nJFCM
DTSTART;TZID=America/New_York:20160101T000100
DTEND;TZID=America/New_York:20160101T235900
END:VEVENT
END:VCALENDAR
