BEGIN:VCALENDAR
PRODID:-//eluceo/ical//2.0/EN
VERSION:2.0
CALSCALE:GREGORIAN
BEGIN:VEVENT
UID:907fa20752d5eed7fc03f8215beeb264
DTSTAMP:20260423T055453Z
SUMMARY:Jewish Healthcare Center Board Meeting
DESCRIPTION:Jewish Federation of Central Massachusetts\nCalendar\nhttps://j
 ewishcentralmass.org/calendar/cal373\n\nJewish Healthcare Center Board Mee
 ting
DTSTART;TZID=America/New_York:20151221T193000
DTEND;TZID=America/New_York:20151221T210000
END:VEVENT
END:VCALENDAR
