BEGIN:VCALENDAR
PRODID:-//eluceo/ical//2.0/EN
VERSION:2.0
CALSCALE:GREGORIAN
BEGIN:VEVENT
UID:f775917e66a32a2da16ee51b4aae57d5
DTSTAMP:20260422T124817Z
SUMMARY:Congregation Beth Israel Board Meeting
DESCRIPTION:Jewish Federation of Central Massachusetts\nCalendar\nhttps://j
 ewishcentralmass.org/calendar/cal371\n\nCongregation Beth Israel Board Mee
 ting
DTSTART;TZID=America/New_York:20151217T193000
DTEND;TZID=America/New_York:20151217T210000
END:VEVENT
END:VCALENDAR
