BEGIN:VCALENDAR
PRODID:-//eluceo/ical//2.0/EN
VERSION:2.0
CALSCALE:GREGORIAN
BEGIN:VEVENT
UID:e81ebc935b639a65ccae0ca3bb90112d
DTSTAMP:20260422T165507Z
SUMMARY:Temple Emanuel Sinai Board Meeting
DESCRIPTION:Jewish Federation of Central Massachusetts\nCalendar\nhttps://j
 ewishcentralmass.org/calendar/cal370\n\nTemple Emanuel Sinai Board Meeting
DTSTART;TZID=America/New_York:20151214T193000
DTEND;TZID=America/New_York:20151214T210000
END:VEVENT
END:VCALENDAR
