BEGIN:VCALENDAR
PRODID:-//eluceo/ical//2.0/EN
VERSION:2.0
CALSCALE:GREGORIAN
BEGIN:VEVENT
UID:7816ba111ee21d189dcb90f1968115a4
DTSTAMP:20260423T171332Z
SUMMARY:Temple Emanuel Sinai Lifelong Learning Brotherhood Breakfast
DESCRIPTION:Jewish Federation of Central Massachusetts\nCalendar\nhttps://j
 ewishcentralmass.org/calendar/cal368\n\nTemple Emanuel Sinai Lifelong Lear
 ning Brotherhood Breakfast
DTSTART;TZID=America/New_York:20151213T093000
DTEND;TZID=America/New_York:20151213T110000
END:VEVENT
END:VCALENDAR
