BEGIN:VCALENDAR
PRODID:-//eluceo/ical//2.0/EN
VERSION:2.0
CALSCALE:GREGORIAN
BEGIN:VEVENT
UID:6ae687c95acae6843bc0d5bad48dbd21
DTSTAMP:20260424T060151Z
SUMMARY:Beth Tikvah Board Meeting & Hanukkah Party
DESCRIPTION:Jewish Federation of Central Massachusetts\nCalendar\nhttps://j
 ewishcentralmass.org/calendar/cal366\n\nBeth Tikvah Board Meeting & Hanukk
 ah Party
DTSTART;TZID=America/New_York:20151209T190000
DTEND;TZID=America/New_York:20151209T210000
END:VEVENT
END:VCALENDAR
