BEGIN:VCALENDAR
PRODID:-//eluceo/ical//2.0/EN
VERSION:2.0
CALSCALE:GREGORIAN
BEGIN:VEVENT
UID:8ef10187bb444ebeedfa13b7da7f5c37
DTSTAMP:20260423T012102Z
SUMMARY:Congregation B'nai Shalom Hanukkah Celebration
DESCRIPTION:Jewish Federation of Central Massachusetts\nCalendar\nhttps://j
 ewishcentralmass.org/calendar/cal364\n\nCongregation B'nai Shalom Hanukkah
  Celebration
DTSTART;TZID=America/New_York:20151206T170000
DTEND;TZID=America/New_York:20151206T190000
END:VEVENT
END:VCALENDAR
