BEGIN:VCALENDAR
PRODID:-//eluceo/ical//2.0/EN
VERSION:2.0
CALSCALE:GREGORIAN
BEGIN:VEVENT
UID:be4f38f6f6258295f31754db25e828bc
DTSTAMP:20260422T202632Z
SUMMARY:Erev Hanukkah
DESCRIPTION:Jewish Federation of Central Massachusetts\nCalendar\nhttps://j
 ewishcentralmass.org/calendar/cal362\n\nJFCM
DTSTART;TZID=America/New_York:20151206T000100
DTEND;TZID=America/New_York:20151214T235900
END:VEVENT
END:VCALENDAR
