BEGIN:VCALENDAR
PRODID:-//eluceo/ical//2.0/EN
VERSION:2.0
CALSCALE:GREGORIAN
BEGIN:VEVENT
UID:2354879ab1be208dbfe5d58cc5b35a96
DTSTAMP:20260421T222241Z
SUMMARY:Thanksgiving
DESCRIPTION:Jewish Federation of Central Massachusetts\nCalendar\nhttps://j
 ewishcentralmass.org/calendar/cal360\n\nJFCM
DTSTART;TZID=America/New_York:20151126T000100
DTEND;TZID=America/New_York:20151126T235900
END:VEVENT
END:VCALENDAR
