BEGIN:VCALENDAR
PRODID:-//eluceo/ical//2.0/EN
VERSION:2.0
CALSCALE:GREGORIAN
BEGIN:VEVENT
UID:cca75f7223862d255024fc50056a8ab6
DTSTAMP:20260425T161351Z
SUMMARY:Temple Emanuel Sinai Brotherhood Breakfast
DESCRIPTION:Jewish Federation of Central Massachusetts\nCalendar\nhttps://j
 ewishcentralmass.org/calendar/cal36\n\nTemple Emanuel Sinai Brotherhood Br
 eakfast
DTSTART;TZID=America/New_York:20141102T100000
DTEND;TZID=America/New_York:20141102T120000
END:VEVENT
END:VCALENDAR
