BEGIN:VCALENDAR
PRODID:-//eluceo/ical//2.0/EN
VERSION:2.0
CALSCALE:GREGORIAN
BEGIN:VEVENT
UID:2e41e834405f9e960b6dd4cbdba23eba
DTSTAMP:20260422T232225Z
SUMMARY:Jewish War Veterans Breakfast
DESCRIPTION:Jewish Federation of Central Massachusetts\nCalendar\nhttps://j
 ewishcentralmass.org/calendar/cal359\n\nJewish War Veterans Breakfast
DTSTART;TZID=America/New_York:20151122T090000
DTEND;TZID=America/New_York:20151122T110000
END:VEVENT
END:VCALENDAR
