BEGIN:VCALENDAR
PRODID:-//eluceo/ical//2.0/EN
VERSION:2.0
CALSCALE:GREGORIAN
BEGIN:VEVENT
UID:b256c9e54420bad09600c487cf2b7f08
DTSTAMP:20260424T081032Z
SUMMARY:Congregation Beth Israel Board Meeting
DESCRIPTION:Jewish Federation of Central Massachusetts\nCalendar\nhttps://j
 ewishcentralmass.org/calendar/cal357\n\nCongregation Beth Israel Board Mee
 ting
DTSTART;TZID=America/New_York:20151119T193000
DTEND;TZID=America/New_York:20151119T210000
END:VEVENT
END:VCALENDAR
