BEGIN:VCALENDAR
PRODID:-//eluceo/ical//2.0/EN
VERSION:2.0
CALSCALE:GREGORIAN
BEGIN:VEVENT
UID:059656596f5f4c12801c7e832e42e35a
DTSTAMP:20260422T045329Z
SUMMARY:Jewish Federation of Central Mass Torathon
DESCRIPTION:Jewish Federation of Central Massachusetts\nCalendar\nhttps://j
 ewishcentralmass.org/calendar/cal356\n\nJewish Federation of Central Mass 
 Torathon
DTSTART;TZID=America/New_York:20151114T180000
DTEND;TZID=America/New_York:20151114T230000
END:VEVENT
END:VCALENDAR
