BEGIN:VCALENDAR
PRODID:-//eluceo/ical//2.0/EN
VERSION:2.0
CALSCALE:GREGORIAN
BEGIN:VEVENT
UID:672312ac942c8ed7c5cdfc89862d2cad
DTSTAMP:20260423T154525Z
SUMMARY:Veterans Day
DESCRIPTION:Jewish Federation of Central Massachusetts\nCalendar\nhttps://j
 ewishcentralmass.org/calendar/cal355\n\nJFCM
DTSTART;TZID=America/New_York:20151111T000100
DTEND;TZID=America/New_York:20151111T235900
END:VEVENT
END:VCALENDAR
