BEGIN:VCALENDAR
PRODID:-//eluceo/ical//2.0/EN
VERSION:2.0
CALSCALE:GREGORIAN
BEGIN:VEVENT
UID:6a5d887fc073d83664c79d9fbb0cdccd
DTSTAMP:20260424T005412Z
SUMMARY:Temple Emanuel Sinai Board Meeting
DESCRIPTION:Jewish Federation of Central Massachusetts\nCalendar\nhttps://j
 ewishcentralmass.org/calendar/cal354\n\nTemple Emanuel Sinai Board Meeting
DTSTART;TZID=America/New_York:20151109T193000
DTEND;TZID=America/New_York:20151109T210000
END:VEVENT
END:VCALENDAR
