BEGIN:VCALENDAR
PRODID:-//eluceo/ical//2.0/EN
VERSION:2.0
CALSCALE:GREGORIAN
BEGIN:VEVENT
UID:ba98ef8bad97c72af39c341f52a490d3
DTSTAMP:20260422T085054Z
SUMMARY:General Assembly
DESCRIPTION:Jewish Federation of Central Massachusetts\nCalendar\nhttps://j
 ewishcentralmass.org/calendar/cal352\n\nJFCM
DTSTART;TZID=America/New_York:20151108T000100
DTEND;TZID=America/New_York:20151110T115900
END:VEVENT
END:VCALENDAR
